{
 "currentVersion": 11.1,
 "serviceDescription": "Imagery/10m_test",
 "name": "Imagery/10m_test",
 "description": "",
 "extent": {
  "xmin": 2081000.0000000002,
  "ymin": 2258000.000000002,
  "xmax": 2952000,
  "ymax": 2843000.000000002,
  "spatialReference": {
   "wkid": 7899,
   "latestWkid": 7899
  }
 },
 "initialExtent": {
  "xmin": 2081000.0000000002,
  "ymin": 2258000.000000002,
  "xmax": 2952000,
  "ymax": 2843000.000000002,
  "spatialReference": {
   "wkid": 7899,
   "latestWkid": 7899
  }
 },
 "fullExtent": {
  "xmin": 2081000.0000000002,
  "ymin": 2258000.000000002,
  "xmax": 2952000,
  "ymax": 2843000.000000002,
  "spatialReference": {
   "wkid": 7899,
   "latestWkid": 7899
  }
 },
 "sortableFields": "",
 "bandCount": 1,
 "pixelType": "F32",
 "minValues": [
  -69.577033996582
 ],
 "maxValues": [
  2045.7673339844
 ],
 "meanValues": [
  248.02818844571
 ],
 "stdvValues": [
  273.6082092307
 ],
 "hasMultidimensions": false,
 "pixelSizeX": 9.999999999999996,
 "pixelSizeY": 10,
 "datasetFormat": "TIFF",
 "uncompressedSize": 20381400000,
 "blockWidth": 256,
 "blockHeight": 256,
 "compressionType": "LZW",
 "bandNames": [
  "Band_1"
 ],
 "allowCopy": true,
 "allowAnalysis": true,
 "itemAccess": false,
 "noDataValue": -9999,
 "noDataValues": [
  -9999
 ],
 "minPixelSize": 0,
 "maxPixelSize": 0,
 "copyrightText": "",
 "serviceDataType": "esriImageServiceDataTypeGeneric",
 "serviceSourceType": "esriImageServiceSourceTypeDataset",
 "objectIdField": "",
 "fields": [],
 "capabilities": "Image, Metadata, Mensuration",
 "defaultMosaicMethod": "Center",
 "allowedMosaicMethods": "",
 "sortField": "",
 "sortValue": null,
 "sortAscending": true,
 "mosaicOperator": "First",
 "defaultCompressionQuality": 75,
 "defaultResamplingMethod": "Bilinear",
 "maxImageHeight": 4100,
 "maxImageWidth": 15000,
 "allowRasterFunction": true,
 "rasterFunctionInfos": [
  {
   "name": "None",
   "description": "",
   "help": ""
  }
 ],
 "rasterTypeInfos": [
  {
   "name": "Raster Dataset",
   "description": "Supports all ArcGIS Raster Datasets",
   "help": ""
  }
 ],
 "mensurationCapabilities": "Basic",
 "hasHistograms": false,
 "hasColormap": false,
 "hasRasterAttributeTable": false,
 "minScale": 0,
 "maxScale": 0,
 "exportTilesAllowed": false,
 "supportsStatistics": false,
 "supportsAdvancedQueries": false,
 "editFieldsInfo": null,
 "ownershipBasedAccessControlForRasters": null,
 "allowComputeTiePoints": false,
 "useStandardizedQueries": true,
 "advancedQueryCapabilities": {
  "useStandardizedQueries": true,
  "supportsStatistics": false,
  "supportsOrderBy": false,
  "supportsDistinct": false,
  "supportsPagination": false
 },
 "spatialReference": {
  "wkid": 7899,
  "latestWkid": 7899
 }
}
