View In:
ArcGIS JavaScript
ArcGIS Online Map Viewer
ArcGIS Earth
Service Description: imagery/imagery_time_series_example
Name: imagery/imagery_time_series_example
Description:
Single Fused Map Cache: false
Extent:
XMin: 345000
YMin: 5782000
XMax: 347000
YMax: 5784000
Spatial Reference: 7855
(7855)
Initial Extent:
XMin: 345000
YMin: 5782000
XMax: 347000
YMax: 5784000
Spatial Reference: 7855
(7855)
Full Extent:
XMin: 345000
YMin: 5782000
XMax: 347000
YMax: 5784000
Spatial Reference: 7855
(7855)
Time Info:
Start Time Field: startdate
End Time Field: enddate
Time Extent:
[2023/09/30 00:00:00 UTC, 2026/07/01 00:00:00 UTC]
Time Reference:
N/A
Pixel Size X: 0.1
Pixel Size Y: 0.1
Band Count: 3
Pixel Type: U8
RasterFunction Infos: {"rasterFunctionInfos": [{
"name": "None",
"description": "",
"help": ""
}]}
Mensuration Capabilities: None
Inspection Capabilities:
Has Histograms: true
Has Colormap: false
Has Multi Dimensions : false
Rendering Rule:
Min Scale: 0
Max Scale: 0
Copyright Text:
Service Data Type: esriImageServiceDataTypeRGB
Min Values: 2, 2, 2
Max Values: 252, 252, 252
Mean Values: 136.28741708250098, 138.8791741199983, 133.70830636000053
Standard Deviation Values: 61.17629673210509, 60.44607212388539, 62.34047112330995
Object ID Field: objectid
Fields:
-
objectid
(
type: esriFieldTypeOID, alias: objectid
)
-
name
(
type: esriFieldTypeString, alias: name, length: 200
)
-
minps
(
type: esriFieldTypeDouble, alias: minps
)
-
maxps
(
type: esriFieldTypeDouble, alias: maxps
)
-
lowps
(
type: esriFieldTypeDouble, alias: lowps
)
-
highps
(
type: esriFieldTypeDouble, alias: highps
)
-
category
(
type: esriFieldTypeInteger, alias: category
, Coded Values:
[0: Unknown]
, [1: Primary]
, [2: Overview]
, ...6 more...
)
-
tag
(
type: esriFieldTypeString, alias: tag, length: 100
)
-
groupname
(
type: esriFieldTypeString, alias: groupname, length: 100
)
-
productname
(
type: esriFieldTypeString, alias: productname, length: 100
)
-
centerx
(
type: esriFieldTypeDouble, alias: centerx
)
-
centery
(
type: esriFieldTypeDouble, alias: centery
)
-
zorder
(
type: esriFieldTypeInteger, alias: zorder
)
-
shape
(
type: esriFieldTypeGeometry, alias: shape
)
-
startdate
(
type: esriFieldTypeDate, alias: startdate, length: 8
)
-
enddate
(
type: esriFieldTypeDate, alias: enddate, length: 8
)
-
st_area(shape)
(
type: esriFieldTypeDouble, alias: st_area(shape)
)
-
st_perimeter(shape)
(
type: esriFieldTypeDouble, alias: st_perimeter(shape)
)
Default Mosaic Method: Northwest
Allowed Mosaic Methods: NorthWest,Center,LockRaster,ByAttribute,Nadir,Viewpoint,Seamline,None
SortField:
SortValue: null
Mosaic Operator: First
Default Compression Quality: 75
Default Resampling Method: Bilinear
Max Record Count: 1000
Max Image Height: 4100
Max Image Width: 15000
Max Download Image Count: 20
Max Mosaic Image Count: 20
Allow Raster Function: true
Allow Copy: true
Allow Analysis: true
Allow Compute TiePoints: false
Supports Statistics: true
Supports Advanced Queries: true
Use StandardizedQueries: true
Raster Type Infos:
Name: Raster Dataset
Description: Supports all ArcGIS Raster Datasets
Help:
Has Raster Attribute Table: false
Edit Fields Info: null
Ownership Based AccessControl For Rasters: null
Child Resources:
Info
Histograms
Statistics
Key Properties
Legend
Raster Function Infos
Supported Operations:
Export Image
Query
Identify
Compute Histograms
Compute Statistics Histograms
Get Samples
Compute Class Statistics
Query GPS Info
Find Images
Image to Map
Map to Image
Measure from Image
Image to Map Multiray
Query Boundary
Compute Pixel Location
Compute Angles
Validate
Project