View In:
ArcGIS JavaScript
ArcGIS Online Map Viewer
ArcGIS Earth
Service Description: Imagery/10m_test
Name: Imagery/10m_test
Description:
Single Fused Map Cache: false
Extent:
XMin: 2081000.0000000002
YMin: 2258000.000000002
XMax: 2952000
YMax: 2843000.000000002
Spatial Reference: 7899
(7899)
Initial Extent:
XMin: 2081000.0000000002
YMin: 2258000.000000002
XMax: 2952000
YMax: 2843000.000000002
Spatial Reference: 7899
(7899)
Full Extent:
XMin: 2081000.0000000002
YMin: 2258000.000000002
XMax: 2952000
YMax: 2843000.000000002
Spatial Reference: 7899
(7899)
Pixel Size X: 9.999999999999996
Pixel Size Y: 10.0
Band Count: 1
Pixel Type: F32
RasterFunction Infos: {"rasterFunctionInfos": [{
"name": "None",
"description": "",
"help": ""
}]}
Mensuration Capabilities: Basic
Has Histograms: false
Has Colormap: false
Has Multi Dimensions : false
Rendering Rule:
Min Scale: 0
Max Scale: 0
Copyright Text:
Service Data Type: esriImageServiceDataTypeGeneric
Min Values: -69.577033996582
Max Values: 2045.7673339844
Mean Values: 248.02818844571
Standard Deviation Values: 273.6082092307
Object ID Field:
Fields:
None
Default Mosaic Method: Center
Allowed Mosaic Methods:
SortField:
SortValue: null
Mosaic Operator: First
Default Compression Quality: 75
Default Resampling Method: Bilinear
Max Record Count: null
Max Image Height: 4100
Max Image Width: 15000
Max Download Image Count: null
Max Mosaic Image Count: null
Allow Raster Function: true
Allow Copy: true
Allow Analysis: true
Allow Compute TiePoints: false
Supports Statistics: false
Supports Advanced Queries: false
Use StandardizedQueries: true
Raster Type Infos:
Name: Raster Dataset
Description: Supports all ArcGIS Raster Datasets
Help:
Has Raster Attribute Table: false
Edit Fields Info: null
Ownership Based AccessControl For Rasters: null
Child Resources:
Info
Statistics
Key Properties
Legend
Raster Function Infos
Supported Operations:
Export Image
Identify
Measure
Compute Histograms
Compute Statistics Histograms
Get Samples
Compute Class Statistics
Query Boundary
Compute Pixel Location
Compute Angles
Validate
Project